BEGIN:VCALENDAR
VERSION:2.0
PRODID:-//ChamberMaster//Event Calendar 2.0//EN
METHOD:PUBLISH
X-PUBLISHED-TTL:P3D
REFRESH-INTERVAL:P3D
CALSCALE:GREGORIAN
BEGIN:VEVENT
DTSTART:20201028T143000Z
DTEND:20201028T150000Z
X-MICROSOFT-CDO-ALLDAYEVENT:FALSE
SUMMARY:Bella Smiles Ribbon Cutting
DESCRIPTION:Bella Smiles Ribbon Cutting
X-ALT-DESC;FMTTYPE=text/html:<u><strong>Bella Smiles Ribbon Cutting </strong></u>
LOCATION:1401 S.Jefferson Ave. Mt.Pleasant\,TX 75455
UID:e.2296.233546
SEQUENCE:3
DTSTAMP:20260421T183740Z
URL:https://mtpleasant-titus-gzcms.preview.gochambermaster.com/events/details/bella-smiles-ribbon-cutting-233546
END:VEVENT

END:VCALENDAR
