BEGIN:VCALENDAR
VERSION:2.0
PRODID:-//ChamberMaster//Event Calendar 2.0//EN
METHOD:PUBLISH
X-PUBLISHED-TTL:P3D
REFRESH-INTERVAL:P3D
CALSCALE:GREGORIAN
BEGIN:VEVENT
DTSTART:20180319T233000Z
DTEND:20180320T010000Z
X-MICROSOFT-CDO-ALLDAYEVENT:FALSE
SUMMARY:Dave Ramsey's Financial Peace University
DESCRIPTION:Want to learn how to make your money work for you?  Join us in March for this series!\n\n\n\nPre-Registration will be March 5.\n\n\n\nPresentations will begin March 19 and last 9 weeks.\n\n\n\nFor more info go to:\n\nhttp://mtpleasanttxsda.org/fpu
X-ALT-DESC;FMTTYPE=text/html:Want to learn how to make your money work for you?&nbsp\; Join us in March for this series!<br />\n<br />\nPre-Registration will be March 5.<br />\n<br />\nPresentations will begin March 19 and last 9 weeks.<br />\n<br />\nFor more info go to:<br />\n<a href="http://mtpleasanttxsda.org/fpu" rel="noreferrer noopener external" target="_blank">http://mtpleasanttxsda.org/fpu</a>
LOCATION:Seventh Day Adventist Church 302 Lakewood Drive Mount Pleasant\, TX 7545
UID:e.2296.230708
SEQUENCE:3
DTSTAMP:20260425T034843Z
URL:https://mtpleasant-titus-gzcms.preview.gochambermaster.com/events/details/dave-ramsey-s-financial-peace-university-230708
END:VEVENT

END:VCALENDAR
