BEGIN:VCALENDAR
VERSION:2.0
PRODID:-//ChamberMaster//Event Calendar 2.0//EN
METHOD:PUBLISH
X-PUBLISHED-TTL:P3D
REFRESH-INTERVAL:P3D
CALSCALE:GREGORIAN
BEGIN:VEVENT
DTSTART:20170812T160000Z
DTEND:20170812T170000Z
X-MICROSOFT-CDO-ALLDAYEVENT:FALSE
SUMMARY:Dawn of Hope Ministry Concert
DESCRIPTION:Please join us for Visitor's Day on August 12\, 2017 at 11AM to enjoy the following special music program and lunch following the service!\n\n\n\nClick Here to download invite cards that you can print and give to family & friends.\n\n\n\nClick Here to view the Facebook event.\n\n\n\nStephanie Dawn has been presenting concerts since she was nine years old. Her musical accomplishments include winner of the Young Soloist Award sponsored by Panasonic and Very Special Arts\, which resulted in performances at the Kennedy Center\, and female category winner in the National New Artist Search. Also\, Embassy Music of Nashville awarded Stephanie Dawn the Grand Prize in their Ultimate Talent Search.\n\n\n\nDawn of Hope Ministry's concerts combine Stephanie's powerful testimony\, engaging voice\, and exuberant personality into a captivating and uplifting program that draws the listener closer to God. Her enthusiastic love for Jesus lifts her above the many challenges she faces in addition to her blindness. This love is inspiring to others facing challenges in their own lives.\n\n\n\nStephanie is accompanied by pianist Dann Thornton. They share a musical connection that creates an attitude of praise to our God and brings to the listener a fresh revelation of God's Word. It is their purpose to bring honor to our Lord Jesus Christ!\n\n\n\nFor more info please go to: https://goo.gl/76WxRb
X-ALT-DESC;FMTTYPE=text/html:Please join us for Visitor&#39\;s Day on August 12\, 2017 at 11AM to enjoy the following special music program and lunch following the service!<br />\n<br />\n<a href="http://www.mtpleasanttxsda.org/site/1/media/dawnofhope/VD2017_Flyers.pdf" target="_blank">Click Here</a> to download invite cards that you can print and give to family &amp\; friends.<br />\n<br />\n<a href="https://www.facebook.com/events/1860879973928870" target="_blank">Click Here</a> to view the Facebook event.<br />\n<br />\nStephanie Dawn has been presenting concerts since she was nine years old. Her musical accomplishments include winner of the Young Soloist Award sponsored by Panasonic and Very Special Arts\, which resulted in performances at the Kennedy Center\, and female category winner in the National New Artist Search. Also\, Embassy Music of Nashville awarded Stephanie Dawn the Grand Prize in their Ultimate Talent Search.<br />\n<br />\nDawn of Hope Ministry&#39\;s concerts combine Stephanie&rsquo\;s powerful testimony\, engaging voice\, and exuberant personality into a captivating and uplifting program that draws the listener closer to God. Her enthusiastic love for Jesus lifts her above the many challenges she faces in addition to her blindness. This love is inspiring to others facing challenges in their own lives.<br />\n<br />\nStephanie is accompanied by pianist Dann Thornton. They share a musical connection that creates an attitude of praise to our God and brings to the listener a fresh revelation of God&#39\;s Word. It is their purpose to bring honor to our Lord Jesus Christ!<br />\n<br />\nFor more info please go to: <a href="https://goo.gl/76WxRb" rel="nofollow nofollow" target="_blank">https://goo.gl/76WxRb</a>
LOCATION:Seventh-Day Adventist Church 302 Lakewood Drive Mount Pleasant\, TX 75455
UID:e.2296.230585
SEQUENCE:3
DTSTAMP:20260425T192846Z
URL:https://mtpleasant-titus-gzcms.preview.gochambermaster.com/events/details/dawn-of-hope-ministry-concert-230585
END:VEVENT

END:VCALENDAR
