BEGIN:VCALENDAR
VERSION:2.0
PRODID:-//ChamberMaster//Event Calendar 2.0//EN
METHOD:PUBLISH
X-PUBLISHED-TTL:P3D
REFRESH-INTERVAL:P3D
CALSCALE:GREGORIAN
BEGIN:VEVENT
DTSTART:20180722T200000Z
DTEND:20180722T220000Z
X-MICROSOFT-CDO-ALLDAYEVENT:FALSE
SUMMARY:Marty Haggard - Tribute to My Dad\, Merle Haggard
DESCRIPTION:Marty Haggard\, the oldest son of the legendary Merle Haggard\, will pay tribute to his dad with a show filled with music and memories. Marty will be joined by world-class musicians and will also share some of his original songs. Come enjoy an evening of real country music\, Haggard style!
X-ALT-DESC;FMTTYPE=text/html:Marty Haggard\, the oldest son of the legendary Merle Haggard\, will pay tribute to his dad with a show filled with music and memories. Marty will be joined by world-class musicians and will also share some of his original songs. Come enjoy an evening of real country music\, Haggard style!
LOCATION:Mount Pleasant Civic Center 1800 N. Jefferson Mount Pleasant TX 75455
UID:e.2296.232894
SEQUENCE:3
DTSTAMP:20260424T205132Z
URL:https://mtpleasant-titus-gzcms.preview.gochambermaster.com/events/details/marty-haggard-tribute-to-my-dad-merle-haggard-232894
END:VEVENT

END:VCALENDAR
