BEGIN:VCALENDAR
VERSION:2.0
PRODID:-//ChamberMaster//Event Calendar 2.0//EN
METHOD:PUBLISH
X-PUBLISHED-TTL:P3D
REFRESH-INTERVAL:P3D
CALSCALE:GREGORIAN
BEGIN:VEVENT
DTSTART:20201027T143000Z
DTEND:20201027T150000Z
X-MICROSOFT-CDO-ALLDAYEVENT:FALSE
SUMMARY:Mary Cyrus Photography Ribbon Cutting !!
DESCRIPTION:Mary Cyrus Photography Ribbon Cutting !!
X-ALT-DESC;FMTTYPE=text/html:<strong>Mary Cyrus Photography Ribbon Cutting !! </strong>
LOCATION:Mount Pleasant Chamber of Commerce 1604 N Jefferson Ave Mt.Pleasant\, TX
UID:e.2296.233548
SEQUENCE:3
DTSTAMP:20260421T204320Z
URL:https://mtpleasant-titus-gzcms.preview.gochambermaster.com/events/details/mary-cyrus-photography-ribbon-cutting-233548
END:VEVENT

END:VCALENDAR
