BEGIN:VCALENDAR
VERSION:2.0
PRODID:-//ChamberMaster//Event Calendar 2.0//EN
METHOD:PUBLISH
X-PUBLISHED-TTL:P3D
REFRESH-INTERVAL:P3D
CALSCALE:GREGORIAN
BEGIN:VEVENT
DTSTART:20200115T170000Z
DTEND:20200115T173000Z
X-MICROSOFT-CDO-ALLDAYEVENT:FALSE
SUMMARY:Score Ribbon Cutting
DESCRIPTION:Score's Ribbon Cutting
X-ALT-DESC;FMTTYPE=text/html:<strong>Score&#39\;s Ribbon Cutting</strong>
LOCATION:105 N Riddle Avenue Mt. Pleasant\, TX 75455
UID:e.2296.233242
SEQUENCE:3
DTSTAMP:20260422T195436Z
URL:https://mtpleasant-titus-gzcms.preview.gochambermaster.com/events/details/score-ribbon-cutting-233242
END:VEVENT

END:VCALENDAR
