BEGIN:VCALENDAR
VERSION:2.0
PRODID:-//ChamberMaster//Event Calendar 2.0//EN
METHOD:PUBLISH
X-PUBLISHED-TTL:P3D
REFRESH-INTERVAL:P3D
CALSCALE:GREGORIAN
BEGIN:VEVENT
DTSTART:20190925T230000Z
DTEND:20190928T170000Z
X-MICROSOFT-CDO-ALLDAYEVENT:FALSE
SUMMARY:Titus County Fair
DESCRIPTION:44th Annual Fair
X-ALT-DESC;FMTTYPE=text/html:44th Annual Fair
LOCATION:Fair Grounds and Civic Center
UID:e.2296.233199
SEQUENCE:3
DTSTAMP:20260423T041803Z
URL:https://mtpleasant-titus-gzcms.preview.gochambermaster.com/events/details/titus-county-fair-09-25-2019-233199
END:VEVENT

END:VCALENDAR
