BEGIN:VCALENDAR
VERSION:2.0
PRODID:-//ChamberMaster//Event Calendar 2.0//EN
METHOD:PUBLISH
X-PUBLISHED-TTL:P3D
REFRESH-INTERVAL:P3D
CALSCALE:GREGORIAN
BEGIN:VEVENT
DTSTART:20210609T163000Z
DTEND:20210609T180000Z
X-MICROSOFT-CDO-ALLDAYEVENT:FALSE
SUMMARY:Women in Business
DESCRIPTION:Women in Business
X-ALT-DESC;FMTTYPE=text/html:<u><strong><span style="font-size:16px\;">Women in Business&nbsp\;</span></strong></u>
LOCATION:Diamond C Trailers 4006 FM 3417 Mount Pleasant\, TX 75455
UID:e.2296.233586
SEQUENCE:3
DTSTAMP:20260419T122018Z
URL:https://mtpleasant-titus-gzcms.preview.gochambermaster.com/events/details/women-in-business-233586
END:VEVENT

END:VCALENDAR
